BEGIN:VCALENDAR
VERSION:2.0
PRODID:-//Bureau of Justice Assistance//NONSGML Event Calendar//EN
BEGIN:VEVENT
UID:957f5e6a-bc74-41c0-9d7c-72e62f45fb0c
DTSTART;TZID=UTC:20200625T170000
SEQUENCE:0
TRANSP:OPAQUE
DTEND;TZID=UTC:20200625T183000
LOCATION:https://bja.ojp.gov/events/drug-exposures-forensic-laboratory-what
 -we-know-what-we-can-learn
SUMMARY:Drug Exposures in the Forensic Laboratory: What We Know\, What We C
 an Learn
CLASS:PUBLIC
DESCRIPTION:Learn more about this event: https://bja.ojp.gov/events/drug-ex
 posures-forensic-laboratory-what-we-know-what-we-can-learn
DTSTAMP:20260422T085416Z
END:VEVENT
END:VCALENDAR