BEGIN:VCALENDAR
VERSION:2.0
PRODID:-//Bureau of Justice Assistance//NONSGML Event Calendar//EN
BEGIN:VEVENT
UID:68a729ee-2e69-458e-bd18-3759879b85bd
DTSTART;TZID=UTC:20200618T180000
SEQUENCE:0
TRANSP:OPAQUE
DTEND;TZID=UTC:20200618T190000
LOCATION:https://bja.ojp.gov/events/overdose-fatality-review-database-pilot
 -site-selection
SUMMARY:Overdose Fatality Review Database Pilot Site Selection
CLASS:PUBLIC
DESCRIPTION:Learn more about this event: https://bja.ojp.gov/events/overdos
 e-fatality-review-database-pilot-site-selection
DTSTAMP:20260421T141621Z
END:VEVENT
END:VCALENDAR