BEGIN:VCALENDAR
VERSION:2.0
PRODID:-//Bureau of Justice Assistance//NONSGML Event Calendar//EN
BEGIN:VEVENT
UID:070eb0eb-e0b0-48e5-8237-78f9bbef4545
DTSTART;TZID=UTC:20200714T170000
SEQUENCE:0
TRANSP:OPAQUE
DTEND;TZID=UTC:20200714T183000
LOCATION:https://bja.ojp.gov/events/mid-year-law-enforcement-fatalities-rep
 ort-keeping-officers-names-wall
SUMMARY:Mid-Year Law Enforcement Fatalities Report: Keeping Officers' Names
  Off the Wall
CLASS:PUBLIC
DESCRIPTION:Learn more about this event: https://bja.ojp.gov/events/mid-yea
 r-law-enforcement-fatalities-report-keeping-officers-names-wall
DTSTAMP:20260422T161740Z
END:VEVENT
END:VCALENDAR