BEGIN:VCALENDAR
VERSION:2.0
PRODID:-//Bureau of Justice Assistance//NONSGML Event Calendar//EN
BEGIN:VEVENT
UID:5d121bc9-516b-4568-a532-05db58560280
DTSTART;TZID=UTC:20200917T173000
SEQUENCE:0
TRANSP:OPAQUE
DTEND;TZID=UTC:20200917T210000
LOCATION:https://bja.ojp.gov/events/presidential-task-force-missing-and-mur
 dered-american-indians-and-alaska-natives-virtual-10
SUMMARY:Presidential Task Force on Missing and Murdered American Indians an
 d Alaska Natives Virtual Consultation: Final Session
CLASS:PUBLIC
DESCRIPTION:Learn more about this event: https://bja.ojp.gov/events/preside
 ntial-task-force-missing-and-murdered-american-indians-and-alaska-natives-
 virtual-10
DTSTAMP:20260425T110640Z
END:VEVENT
END:VCALENDAR