BEGIN:VCALENDAR
VERSION:2.0
PRODID:-//Bureau of Justice Assistance//NONSGML Event Calendar//EN
BEGIN:VEVENT
UID:33e7c1df-21c2-44ca-9330-d862c32ff8b8
DTSTART;VALUE=DATE:20210406
SEQUENCE:0
TRANSP:OPAQUE
DTEND;VALUE=DATE:20210409
LOCATION:https://bja.ojp.gov/events/tribal-intergovernmental-reentry-nation
 al-workshop
SUMMARY:Tribal Intergovernmental Reentry National Workshop
CLASS:PUBLIC
DESCRIPTION:Learn more about this event: https://bja.ojp.gov/events/tribal-
 intergovernmental-reentry-national-workshop
X-MICROSOFT-CDO-ALLDAYEVENT:TRUE
DTSTAMP:20260425T014216Z
END:VEVENT
END:VCALENDAR