BEGIN:VCALENDAR
VERSION:2.0
PRODID:-//Bureau of Justice Assistance//NONSGML Event Calendar//EN
BEGIN:VEVENT
UID:20b2e1db-bd9b-40e7-9a6f-4961a285f727
DTSTART;VALUE=DATE:20210216
SEQUENCE:0
TRANSP:OPAQUE
DTEND;VALUE=DATE:20210226
LOCATION:https://bja.ojp.gov/events/2021-virtual-national-forum-overdose-fa
 tality-review
SUMMARY:2021 Virtual National Forum: Overdose Fatality Review
CLASS:PUBLIC
DESCRIPTION:Learn more about this event: https://bja.ojp.gov/events/2021-vi
 rtual-national-forum-overdose-fatality-review
X-MICROSOFT-CDO-ALLDAYEVENT:TRUE
DTSTAMP:20260421T141634Z
END:VEVENT
END:VCALENDAR