BEGIN:VCALENDAR
VERSION:2.0
PRODID:-//Bureau of Justice Assistance//NONSGML Event Calendar//EN
BEGIN:VEVENT
UID:afaabfab-b6e9-4d49-ab3f-432c817b832a
DTSTART;TZID=UTC:20210329T190000
SEQUENCE:0
TRANSP:OPAQUE
DTEND;TZID=UTC:20210329T203000
LOCATION:https://bja.ojp.gov/events/application-mechanics-submitting-applic
 ation-0
SUMMARY:Application Mechanics: Submitting an Application
CLASS:PUBLIC
DESCRIPTION:Learn more about this event: https://bja.ojp.gov/events/applica
 tion-mechanics-submitting-application-0
DTSTAMP:20260425T143955Z
END:VEVENT
END:VCALENDAR