BEGIN:VCALENDAR
VERSION:2.0
PRODID:-//Bureau of Justice Assistance//NONSGML Event Calendar//EN
BEGIN:VEVENT
UID:e7d23a15-20f7-40d7-b2f8-564d55df58a6
DTSTART;TZID=UTC:20220425T153000
SEQUENCE:0
TRANSP:OPAQUE
DTEND;TZID=UTC:20220425T170000
LOCATION:https://bja.ojp.gov/events/exploring-efforts-provide-coordinated-r
 eentry-services-youth
SUMMARY:Exploring Efforts to Provide Coordinated Reentry Services to Youth
CLASS:PUBLIC
DESCRIPTION:Learn more about this event: https://bja.ojp.gov/events/explori
 ng-efforts-provide-coordinated-reentry-services-youth
DTSTAMP:20260425T145946Z
END:VEVENT
END:VCALENDAR