BEGIN:VCALENDAR
VERSION:2.0
PRODID:-//Bureau of Justice Assistance//NONSGML Event Calendar//EN
BEGIN:VEVENT
UID:4f4d8514-0ef0-49d4-817b-7919c8057e0a
DTSTART;TZID=UTC:20221116T190000
SEQUENCE:0
TRANSP:OPAQUE
DTEND;TZID=UTC:20221116T203000
LOCATION:https://bja.ojp.gov/events/addressing-concerns-and-responding-myth
 s-about-safety-during-crisis-calls
SUMMARY:Addressing Concerns and Responding to Myths About Safety during Cri
 sis Calls
CLASS:PUBLIC
DESCRIPTION:Learn more about this event: https://bja.ojp.gov/events/address
 ing-concerns-and-responding-myths-about-safety-during-crisis-calls
DTSTAMP:20260425T003926Z
END:VEVENT
END:VCALENDAR