BEGIN:VCALENDAR
VERSION:2.0
PRODID:-//Bureau of Justice Assistance//NONSGML Event Calendar//EN
BEGIN:VEVENT
UID:40d4be37-d2f1-4ac8-a49e-c93a7c71951b
DTSTART;VALUE=DATE:20230316
SEQUENCE:0
TRANSP:OPAQUE
DTEND;VALUE=DATE:20230317
LOCATION:https://bja.ojp.gov/events/valor-train-trainer-workshop-5
SUMMARY:VALOR Train-the-Trainer Workshop
CLASS:PUBLIC
DESCRIPTION:Learn more about this event: https://bja.ojp.gov/events/valor-t
 rain-trainer-workshop-5
X-MICROSOFT-CDO-ALLDAYEVENT:TRUE
DTSTAMP:20260420T172111Z
END:VEVENT
END:VCALENDAR