BEGIN:VCALENDAR
VERSION:2.0
PRODID:-//Bureau of Justice Assistance//NONSGML Event Calendar//EN
BEGIN:VEVENT
UID:4e992bb0-e36f-41d5-ba74-f49c97db19ec
DTSTART;TZID=UTC:20240111T190000
SEQUENCE:0
TRANSP:OPAQUE
DTEND;TZID=UTC:20240111T200000
LOCATION:https://bja.ojp.gov/events/justgrants-virtual-qa-award-acceptance-
 111
SUMMARY:JustGrants Virtual Q&A: Award Acceptance
CLASS:PUBLIC
DESCRIPTION:Learn more about this event: https://bja.ojp.gov/events/justgra
 nts-virtual-qa-award-acceptance-111
DTSTAMP:20260422T085416Z
END:VEVENT
END:VCALENDAR