BEGIN:VCALENDAR
VERSION:2.0
PRODID:-//Bureau of Justice Assistance//NONSGML Event Calendar//EN
BEGIN:VEVENT
UID:c24264cb-1932-4cf6-8aeb-e080e439f21f
DTSTART;TZID=UTC:20240305T190000
SEQUENCE:0
TRANSP:OPAQUE
DTEND;TZID=UTC:20240305T200000
LOCATION:https://bja.ojp.gov/events/justgrants-weekly-training-webinar-enti
 ty-management-3
SUMMARY:JustGrants Weekly Training Webinar: Entity Management
CLASS:PUBLIC
DESCRIPTION:Learn more about this event: https://bja.ojp.gov/events/justgra
 nts-weekly-training-webinar-entity-management-3
DTSTAMP:20260422T051652Z
END:VEVENT
END:VCALENDAR