BEGIN:VCALENDAR
VERSION:2.0
PRODID:-//Bureau of Justice Assistance//NONSGML Event Calendar//EN
BEGIN:VEVENT
UID:62071974-c756-429e-85dd-1148879c6592
DTSTART;TZID=UTC:20240925T180000
SEQUENCE:0
TRANSP:OPAQUE
DTEND;TZID=UTC:20240925T193000
LOCATION:https://bja.ojp.gov/events/ask-expert-family-centered-reentry-prog
 ramming
SUMMARY:Ask the Expert: Family-Centered Reentry Programming
CLASS:PUBLIC
DESCRIPTION:Learn more about this event: https://bja.ojp.gov/events/ask-exp
 ert-family-centered-reentry-programming
DTSTAMP:20260420T230650Z
END:VEVENT
END:VCALENDAR